BEGIN:VCALENDAR
VERSION:2.0
PRODID:-//YBAM - ECPv6.1.3//NONSGML v1.0//EN
CALSCALE:GREGORIAN
METHOD:PUBLISH
X-ORIGINAL-URL:https://ybam.org.my
X-WR-CALDESC:YBAM的活动
REFRESH-INTERVAL;VALUE=DURATION:PT1H
X-Robots-Tag:noindex
X-PUBLISHED-TTL:PT1H
BEGIN:VTIMEZONE
TZID:Asia/Shanghai
BEGIN:STANDARD
TZOFFSETFROM:+0800
TZOFFSETTO:+0800
TZNAME:CST
DTSTART:20230101T000000
END:STANDARD
END:VTIMEZONE
BEGIN:VEVENT
DTSTART;VALUE=DATE:20230303
DTEND;VALUE=DATE:20230617
DTSTAMP:20260421T234015
CREATED:20230131T050801Z
LAST-MODIFIED:20230131T050801Z
UID:39694-1677801600-1686959999@ybam.org.my
SUMMARY:修行这条路，要怎么做？| Outline of the Path to Enlightenment
DESCRIPTION:修行这条路，要怎么做？| Outline of the Path to Enlightenment \n修学佛法最重要的步骤是闻思修，可是如果只停留在吃素，念佛，拜忏，持咒就是修行参加法会，而没有再上一层楼，研读经典，理解经文，实践修行，以开启缘起的智慧，就相对比较可惜。 \n《解脱道论》在汉译藏经中与上座部觉音论师所著的《清净道论》有着很高的相似度，提供了我们全面且具有次第的修行地图，在法师的带领下深入经藏。 \nThe most important step in the practice of Buddhism is listening\, reflecting\, and practising. Being a vegetarian\, chanting\, worshipping\, reciting mantra or attending pujas and without proceeding to the next level by studying and understanding the suttas and practise would be pity. \nThe Vimuttimagga (‘Path of Freedom’) is a Buddhist practice manual which is similar to ‘Path of Purification’ by Buddhaghosa. With the guidance of Venerable\, we are able to understand the scripture which portrays the path to liberation. \n日期 Date：（8堂课 | 8 classes）\n03.03.2023、17.03.2023、\n07.04.2023、21.04.2023、\n12.05.2023 、19.05.2023、\n09.06.2023、16.06.2023 \n时间 Time：7:30pm – 9:00pm\n地点 Venue：古晋佛教居士林 Kuching Buddhist Society / Zoom\n主讲者Speaker：洞崧法师 Venerable Dong Song\n联络Contact：郑文成 Dhammisaro 0168910938\n媒介语 Language: 中文 Mandarin\n报名表格 Registration Form: https://forms.gle/BBbFFKVvYEPZCi2c9 \n【追踪马佛青看更多内容 Follow YBAM for more content】\n✅ https://linktr.ee/ybamalaysia \n 
URL:https://ybam.org.my/event/%e4%bf%ae%e8%a1%8c%e8%bf%99%e6%9d%a1%e8%b7%af%ef%bc%8c%e8%a6%81%e6%80%8e%e4%b9%88%e5%81%9a%ef%bc%9f-outline-of-the-path-to-enlightenment/
LOCATION:E-Platform\, Malaysia
ATTACH;FMTTYPE=image/jpeg:https://ybam-wordpress-media.s3.ap-southeast-1.amazonaws.com/wp-content/uploads/2023/01/31130524/gps.jpg
ORGANIZER;CN="YBAM":MAILTO:ybam@ybam.org.my
END:VEVENT
END:VCALENDAR